BEGIN:VCALENDAR
VERSION:2.0
PRODID:-//Mosaic Atlanta - ECPv6.15.13//NONSGML v1.0//EN
CALSCALE:GREGORIAN
METHOD:PUBLISH
X-WR-CALNAME:Mosaic Atlanta
X-ORIGINAL-URL:https://mosaicatlanta.org
X-WR-CALDESC:Events for Mosaic Atlanta
REFRESH-INTERVAL;VALUE=DURATION:PT1H
X-Robots-Tag:noindex
X-PUBLISHED-TTL:PT1H
BEGIN:VTIMEZONE
TZID:America/New_York
BEGIN:DAYLIGHT
TZOFFSETFROM:-0500
TZOFFSETTO:-0400
TZNAME:EDT
DTSTART:20250309T070000
END:DAYLIGHT
BEGIN:STANDARD
TZOFFSETFROM:-0400
TZOFFSETTO:-0500
TZNAME:EST
DTSTART:20251102T060000
END:STANDARD
BEGIN:DAYLIGHT
TZOFFSETFROM:-0500
TZOFFSETTO:-0400
TZNAME:EDT
DTSTART:20260308T070000
END:DAYLIGHT
BEGIN:STANDARD
TZOFFSETFROM:-0400
TZOFFSETTO:-0500
TZNAME:EST
DTSTART:20261101T060000
END:STANDARD
BEGIN:DAYLIGHT
TZOFFSETFROM:-0500
TZOFFSETTO:-0400
TZNAME:EDT
DTSTART:20270314T070000
END:DAYLIGHT
BEGIN:STANDARD
TZOFFSETFROM:-0400
TZOFFSETTO:-0500
TZNAME:EST
DTSTART:20271107T060000
END:STANDARD
END:VTIMEZONE
BEGIN:VEVENT
DTSTART;TZID=America/New_York:20260410T103000
DTEND;TZID=America/New_York:20260410T113000
DTSTAMP:20260419T181344
CREATED:20260410T163715Z
LAST-MODIFIED:20260410T163715Z
UID:10001790-1775817000-1775820600@mosaicatlanta.org
SUMMARY:Organize the South
DESCRIPTION:https://www.instagram.com/p/DW7PiSKFWsr/?igsh=OHF4ejJiMHphYnI1
URL:https://mosaicatlanta.org/event/organize-the-south/
LOCATION:Youtube.com/@cpusa
END:VEVENT
END:VCALENDAR