BEGIN:VCALENDAR
VERSION:2.0
PRODID:-//Mosaic Atlanta - ECPv6.15.13//NONSGML v1.0//EN
CALSCALE:GREGORIAN
METHOD:PUBLISH
X-ORIGINAL-URL:https://mosaicatlanta.org
X-WR-CALDESC:Events for Mosaic Atlanta
REFRESH-INTERVAL;VALUE=DURATION:PT1H
X-Robots-Tag:noindex
X-PUBLISHED-TTL:PT1H
BEGIN:VTIMEZONE
TZID:America/New_York
BEGIN:DAYLIGHT
TZOFFSETFROM:-0500
TZOFFSETTO:-0400
TZNAME:EDT
DTSTART:20250309T070000
END:DAYLIGHT
BEGIN:STANDARD
TZOFFSETFROM:-0400
TZOFFSETTO:-0500
TZNAME:EST
DTSTART:20251102T060000
END:STANDARD
BEGIN:DAYLIGHT
TZOFFSETFROM:-0500
TZOFFSETTO:-0400
TZNAME:EDT
DTSTART:20260308T070000
END:DAYLIGHT
BEGIN:STANDARD
TZOFFSETFROM:-0400
TZOFFSETTO:-0500
TZNAME:EST
DTSTART:20261101T060000
END:STANDARD
BEGIN:DAYLIGHT
TZOFFSETFROM:-0500
TZOFFSETTO:-0400
TZNAME:EDT
DTSTART:20270314T070000
END:DAYLIGHT
BEGIN:STANDARD
TZOFFSETFROM:-0400
TZOFFSETTO:-0500
TZNAME:EST
DTSTART:20271107T060000
END:STANDARD
BEGIN:DAYLIGHT
TZOFFSETFROM:-0500
TZOFFSETTO:-0400
TZNAME:EDT
DTSTART:20280312T070000
END:DAYLIGHT
BEGIN:STANDARD
TZOFFSETFROM:-0400
TZOFFSETTO:-0500
TZNAME:EST
DTSTART:20281105T060000
END:STANDARD
END:VTIMEZONE
BEGIN:VEVENT
DTSTART;TZID=America/New_York:20260418T193000
DTEND;TZID=America/New_York:20260418T223000
DTSTAMP:20260414T211744
CREATED:20260224T160852Z
LAST-MODIFIED:20260224T160852Z
UID:10000677-1776540600-1776551400@mosaicatlanta.org
SUMMARY:Eat Drink and Be Marxist
DESCRIPTION:Atldsa.org/EDBM
URL:https://mosaicatlanta.org/event/eat-drink-and-be-marxist-11/
LOCATION:Red’s Beer Garden\, 1328 Boulevard SE\, Atlanta\, GA 30315\, USA
CATEGORIES:Community
END:VEVENT
BEGIN:VEVENT
DTSTART;TZID=America/New_York:20260516T193000
DTEND;TZID=America/New_York:20260516T223000
DTSTAMP:20260414T211744
CREATED:20260224T160859Z
LAST-MODIFIED:20260224T160859Z
UID:10000729-1778959800-1778970600@mosaicatlanta.org
SUMMARY:Eat Drink and Be Marxist
DESCRIPTION:Atldsa.org/EDBM
URL:https://mosaicatlanta.org/event/eat-drink-and-be-marxist-13/
LOCATION:Red’s Beer Garden\, 1328 Boulevard SE\, Atlanta\, GA 30315\, USA
CATEGORIES:Community
END:VEVENT
BEGIN:VEVENT
DTSTART;TZID=America/New_York:20260620T193000
DTEND;TZID=America/New_York:20260620T223000
DTSTAMP:20260414T211744
CREATED:20260224T160909Z
LAST-MODIFIED:20260224T160909Z
UID:10000797-1781983800-1781994600@mosaicatlanta.org
SUMMARY:Eat Drink and Be Marxist
DESCRIPTION:Atldsa.org/EDBM
URL:https://mosaicatlanta.org/event/eat-drink-and-be-marxist-15/
LOCATION:Red’s Beer Garden\, 1328 Boulevard SE\, Atlanta\, GA 30315\, USA
CATEGORIES:Community
END:VEVENT
BEGIN:VEVENT
DTSTART;TZID=America/New_York:20260718T193000
DTEND;TZID=America/New_York:20260718T223000
DTSTAMP:20260414T211744
CREATED:20260224T160918Z
LAST-MODIFIED:20260224T160918Z
UID:10000846-1784403000-1784413800@mosaicatlanta.org
SUMMARY:Eat Drink and Be Marxist
DESCRIPTION:Atldsa.org/EDBM
URL:https://mosaicatlanta.org/event/eat-drink-and-be-marxist-17/
LOCATION:Red’s Beer Garden\, 1328 Boulevard SE\, Atlanta\, GA 30315\, USA
CATEGORIES:Community
END:VEVENT
BEGIN:VEVENT
DTSTART;TZID=America/New_York:20260815T193000
DTEND;TZID=America/New_York:20260815T223000
DTSTAMP:20260414T211744
CREATED:20260224T160923Z
LAST-MODIFIED:20260224T160923Z
UID:10000896-1786822200-1786833000@mosaicatlanta.org
SUMMARY:Eat Drink and Be Marxist
DESCRIPTION:Atldsa.org/EDBM
URL:https://mosaicatlanta.org/event/eat-drink-and-be-marxist-19/
LOCATION:Red’s Beer Garden\, 1328 Boulevard SE\, Atlanta\, GA 30315\, USA
CATEGORIES:Community
END:VEVENT
BEGIN:VEVENT
DTSTART;TZID=America/New_York:20260919T193000
DTEND;TZID=America/New_York:20260919T223000
DTSTAMP:20260414T211744
CREATED:20260224T160930Z
LAST-MODIFIED:20260224T160930Z
UID:10000961-1789846200-1789857000@mosaicatlanta.org
SUMMARY:Eat Drink and Be Marxist
DESCRIPTION:Atldsa.org/EDBM
URL:https://mosaicatlanta.org/event/eat-drink-and-be-marxist-21/
LOCATION:Red’s Beer Garden\, 1328 Boulevard SE\, Atlanta\, GA 30315\, USA
CATEGORIES:Community
END:VEVENT
BEGIN:VEVENT
DTSTART;TZID=America/New_York:20261017T193000
DTEND;TZID=America/New_York:20261017T223000
DTSTAMP:20260414T211744
CREATED:20260224T160936Z
LAST-MODIFIED:20260224T160936Z
UID:10001009-1792265400-1792276200@mosaicatlanta.org
SUMMARY:Eat Drink and Be Marxist
DESCRIPTION:Atldsa.org/EDBM
URL:https://mosaicatlanta.org/event/eat-drink-and-be-marxist-23/
LOCATION:Red’s Beer Garden\, 1328 Boulevard SE\, Atlanta\, GA 30315\, USA
CATEGORIES:Community
END:VEVENT
BEGIN:VEVENT
DTSTART;TZID=America/New_York:20261121T193000
DTEND;TZID=America/New_York:20261121T223000
DTSTAMP:20260414T211744
CREATED:20260224T160942Z
LAST-MODIFIED:20260224T160942Z
UID:10001076-1795289400-1795300200@mosaicatlanta.org
SUMMARY:Eat Drink and Be Marxist
DESCRIPTION:Atldsa.org/EDBM
URL:https://mosaicatlanta.org/event/eat-drink-and-be-marxist-25/
LOCATION:Red’s Beer Garden\, 1328 Boulevard SE\, Atlanta\, GA 30315\, USA
CATEGORIES:Community
END:VEVENT
BEGIN:VEVENT
DTSTART;TZID=America/New_York:20261219T193000
DTEND;TZID=America/New_York:20261219T223000
DTSTAMP:20260414T211744
CREATED:20260224T160951Z
LAST-MODIFIED:20260224T160951Z
UID:10001127-1797708600-1797719400@mosaicatlanta.org
SUMMARY:Eat Drink and Be Marxist
DESCRIPTION:Atldsa.org/EDBM
URL:https://mosaicatlanta.org/event/eat-drink-and-be-marxist-27/
LOCATION:Red’s Beer Garden\, 1328 Boulevard SE\, Atlanta\, GA 30315\, USA
CATEGORIES:Community
END:VEVENT
BEGIN:VEVENT
DTSTART;TZID=America/New_York:20270116T193000
DTEND;TZID=America/New_York:20270116T223000
DTSTAMP:20260414T211744
CREATED:20260224T160958Z
LAST-MODIFIED:20260224T160958Z
UID:10001173-1800127800-1800138600@mosaicatlanta.org
SUMMARY:Eat Drink and Be Marxist
DESCRIPTION:Atldsa.org/EDBM
URL:https://mosaicatlanta.org/event/eat-drink-and-be-marxist-29/
LOCATION:Red’s Beer Garden\, 1328 Boulevard SE\, Atlanta\, GA 30315\, USA
CATEGORIES:Community
END:VEVENT
BEGIN:VEVENT
DTSTART;TZID=America/New_York:20270220T193000
DTEND;TZID=America/New_York:20270220T223000
DTSTAMP:20260414T211744
CREATED:20260224T161008Z
LAST-MODIFIED:20260224T161008Z
UID:10001238-1803151800-1803162600@mosaicatlanta.org
SUMMARY:Eat Drink and Be Marxist
DESCRIPTION:Atldsa.org/EDBM
URL:https://mosaicatlanta.org/event/eat-drink-and-be-marxist-31/
LOCATION:Red’s Beer Garden\, 1328 Boulevard SE\, Atlanta\, GA 30315\, USA
CATEGORIES:Community
END:VEVENT
END:VCALENDAR