BEGIN:VCALENDAR
VERSION:2.0
PRODID:-//Mosaic Atlanta - ECPv6.15.13//NONSGML v1.0//EN
CALSCALE:GREGORIAN
METHOD:PUBLISH
X-ORIGINAL-URL:https://mosaicatlanta.org
X-WR-CALDESC:Events for Mosaic Atlanta
REFRESH-INTERVAL;VALUE=DURATION:PT1H
X-Robots-Tag:noindex
X-PUBLISHED-TTL:PT1H
BEGIN:VTIMEZONE
TZID:America/New_York
BEGIN:DAYLIGHT
TZOFFSETFROM:-0500
TZOFFSETTO:-0400
TZNAME:EDT
DTSTART:20250309T070000
END:DAYLIGHT
BEGIN:STANDARD
TZOFFSETFROM:-0400
TZOFFSETTO:-0500
TZNAME:EST
DTSTART:20251102T060000
END:STANDARD
BEGIN:DAYLIGHT
TZOFFSETFROM:-0500
TZOFFSETTO:-0400
TZNAME:EDT
DTSTART:20260308T070000
END:DAYLIGHT
BEGIN:STANDARD
TZOFFSETFROM:-0400
TZOFFSETTO:-0500
TZNAME:EST
DTSTART:20261101T060000
END:STANDARD
BEGIN:DAYLIGHT
TZOFFSETFROM:-0500
TZOFFSETTO:-0400
TZNAME:EDT
DTSTART:20270314T070000
END:DAYLIGHT
BEGIN:STANDARD
TZOFFSETFROM:-0400
TZOFFSETTO:-0500
TZNAME:EST
DTSTART:20271107T060000
END:STANDARD
BEGIN:DAYLIGHT
TZOFFSETFROM:-0500
TZOFFSETTO:-0400
TZNAME:EDT
DTSTART:20280312T070000
END:DAYLIGHT
BEGIN:STANDARD
TZOFFSETFROM:-0400
TZOFFSETTO:-0500
TZNAME:EST
DTSTART:20281105T060000
END:STANDARD
END:VTIMEZONE
BEGIN:VEVENT
DTSTART;TZID=America/New_York:20260502T090000
DTEND;TZID=America/New_York:20260502T110000
DTSTAMP:20260414T212712
CREATED:20260224T160856Z
LAST-MODIFIED:20260224T160856Z
UID:10000702-1777712400-1777719600@mosaicatlanta.org
SUMMARY:Pilgrimage for Palestine
DESCRIPTION:
URL:https://mosaicatlanta.org/event/pilgrimage-for-palestine-3/
LOCATION:Park Ave Baptist Church\, 486 Park Ave SE\, Atlanta\, GA 30312\, USA
CATEGORIES:Community
END:VEVENT
BEGIN:VEVENT
DTSTART;TZID=America/New_York:20260502T110000
DTEND;TZID=America/New_York:20260502T123000
DTSTAMP:20260414T212712
CREATED:20260224T160856Z
LAST-MODIFIED:20260224T160856Z
UID:10000703-1777719600-1777725000@mosaicatlanta.org
SUMMARY:Post Gaza Pilgrimage Picnic in the Park
DESCRIPTION:www.refaatlibrary.com
URL:https://mosaicatlanta.org/event/post-gaza-pilgrimage-picnic-in-the-park-3/
LOCATION:Park Ave Baptist Church\, 486 Park Ave SE\, Atlanta\, GA 30312\, USA
CATEGORIES:Community
END:VEVENT
BEGIN:VEVENT
DTSTART;TZID=America/New_York:20260606T090000
DTEND;TZID=America/New_York:20260606T110000
DTSTAMP:20260414T212712
CREATED:20260224T160902Z
LAST-MODIFIED:20260224T160902Z
UID:10000764-1780736400-1780743600@mosaicatlanta.org
SUMMARY:Pilgrimage for Palestine
DESCRIPTION:
URL:https://mosaicatlanta.org/event/pilgrimage-for-palestine-4/
LOCATION:Park Ave Baptist Church\, 486 Park Ave SE\, Atlanta\, GA 30312\, USA
CATEGORIES:Community
END:VEVENT
BEGIN:VEVENT
DTSTART;TZID=America/New_York:20260606T110000
DTEND;TZID=America/New_York:20260606T123000
DTSTAMP:20260414T212712
CREATED:20260224T160903Z
LAST-MODIFIED:20260224T160903Z
UID:10000765-1780743600-1780749000@mosaicatlanta.org
SUMMARY:Post Gaza Pilgrimage Picnic in the Park
DESCRIPTION:www.refaatlibrary.com
URL:https://mosaicatlanta.org/event/post-gaza-pilgrimage-picnic-in-the-park-4/
LOCATION:Park Ave Baptist Church\, 486 Park Ave SE\, Atlanta\, GA 30312\, USA
CATEGORIES:Community
END:VEVENT
BEGIN:VEVENT
DTSTART;TZID=America/New_York:20260704T090000
DTEND;TZID=America/New_York:20260704T110000
DTSTAMP:20260414T212712
CREATED:20260224T160911Z
LAST-MODIFIED:20260224T160911Z
UID:10000817-1783155600-1783162800@mosaicatlanta.org
SUMMARY:Pilgrimage for Palestine
DESCRIPTION:
URL:https://mosaicatlanta.org/event/pilgrimage-for-palestine-5/
LOCATION:Park Ave Baptist Church\, 486 Park Ave SE\, Atlanta\, GA 30312\, USA
CATEGORIES:Community
END:VEVENT
BEGIN:VEVENT
DTSTART;TZID=America/New_York:20260704T110000
DTEND;TZID=America/New_York:20260704T123000
DTSTAMP:20260414T212712
CREATED:20260224T160911Z
LAST-MODIFIED:20260224T160911Z
UID:10000818-1783162800-1783168200@mosaicatlanta.org
SUMMARY:Post Gaza Pilgrimage Picnic in the Park
DESCRIPTION:www.refaatlibrary.com
URL:https://mosaicatlanta.org/event/post-gaza-pilgrimage-picnic-in-the-park-5/
LOCATION:Park Ave Baptist Church\, 486 Park Ave SE\, Atlanta\, GA 30312\, USA
CATEGORIES:Community
END:VEVENT
BEGIN:VEVENT
DTSTART;TZID=America/New_York:20260801T090000
DTEND;TZID=America/New_York:20260801T110000
DTSTAMP:20260414T212712
CREATED:20260224T160921Z
LAST-MODIFIED:20260224T160921Z
UID:10000869-1785574800-1785582000@mosaicatlanta.org
SUMMARY:Pilgrimage for Palestine
DESCRIPTION:
URL:https://mosaicatlanta.org/event/pilgrimage-for-palestine-6/
LOCATION:Park Ave Baptist Church\, 486 Park Ave SE\, Atlanta\, GA 30312\, USA
CATEGORIES:Community
END:VEVENT
BEGIN:VEVENT
DTSTART;TZID=America/New_York:20260801T110000
DTEND;TZID=America/New_York:20260801T123000
DTSTAMP:20260414T212712
CREATED:20260224T160921Z
LAST-MODIFIED:20260224T160921Z
UID:10000870-1785582000-1785587400@mosaicatlanta.org
SUMMARY:Post Gaza Pilgrimage Picnic in the Park
DESCRIPTION:www.refaatlibrary.com
URL:https://mosaicatlanta.org/event/post-gaza-pilgrimage-picnic-in-the-park-6/
LOCATION:Park Ave Baptist Church\, 486 Park Ave SE\, Atlanta\, GA 30312\, USA
CATEGORIES:Community
END:VEVENT
BEGIN:VEVENT
DTSTART;TZID=America/New_York:20260905T090000
DTEND;TZID=America/New_York:20260905T110000
DTSTAMP:20260414T212712
CREATED:20260224T160927Z
LAST-MODIFIED:20260224T160927Z
UID:10000929-1788598800-1788606000@mosaicatlanta.org
SUMMARY:Pilgrimage for Palestine
DESCRIPTION:
URL:https://mosaicatlanta.org/event/pilgrimage-for-palestine-7/
LOCATION:Park Ave Baptist Church\, 486 Park Ave SE\, Atlanta\, GA 30312\, USA
CATEGORIES:Community
END:VEVENT
BEGIN:VEVENT
DTSTART;TZID=America/New_York:20260905T110000
DTEND;TZID=America/New_York:20260905T123000
DTSTAMP:20260414T212712
CREATED:20260224T160927Z
LAST-MODIFIED:20260224T160927Z
UID:10000930-1788606000-1788611400@mosaicatlanta.org
SUMMARY:Post Gaza Pilgrimage Picnic in the Park
DESCRIPTION:www.refaatlibrary.com
URL:https://mosaicatlanta.org/event/post-gaza-pilgrimage-picnic-in-the-park-7/
LOCATION:Park Ave Baptist Church\, 486 Park Ave SE\, Atlanta\, GA 30312\, USA
CATEGORIES:Community
END:VEVENT
BEGIN:VEVENT
DTSTART;TZID=America/New_York:20261003T090000
DTEND;TZID=America/New_York:20261003T110000
DTSTAMP:20260414T212712
CREATED:20260224T160932Z
LAST-MODIFIED:20260224T160932Z
UID:10000983-1791018000-1791025200@mosaicatlanta.org
SUMMARY:Pilgrimage for Palestine
DESCRIPTION:
URL:https://mosaicatlanta.org/event/pilgrimage-for-palestine-8/
LOCATION:Park Ave Baptist Church\, 486 Park Ave SE\, Atlanta\, GA 30312\, USA
CATEGORIES:Community
END:VEVENT
BEGIN:VEVENT
DTSTART;TZID=America/New_York:20261003T110000
DTEND;TZID=America/New_York:20261003T123000
DTSTAMP:20260414T212712
CREATED:20260224T160933Z
LAST-MODIFIED:20260224T160933Z
UID:10000984-1791025200-1791030600@mosaicatlanta.org
SUMMARY:Post Gaza Pilgrimage Picnic in the Park
DESCRIPTION:www.refaatlibrary.com
URL:https://mosaicatlanta.org/event/post-gaza-pilgrimage-picnic-in-the-park-8/
LOCATION:Park Ave Baptist Church\, 486 Park Ave SE\, Atlanta\, GA 30312\, USA
CATEGORIES:Community
END:VEVENT
BEGIN:VEVENT
DTSTART;TZID=America/New_York:20261107T090000
DTEND;TZID=America/New_York:20261107T110000
DTSTAMP:20260414T212712
CREATED:20260224T160939Z
LAST-MODIFIED:20260224T160939Z
UID:10001044-1794042000-1794049200@mosaicatlanta.org
SUMMARY:Pilgrimage for Palestine
DESCRIPTION:
URL:https://mosaicatlanta.org/event/pilgrimage-for-palestine-9/
LOCATION:Park Ave Baptist Church\, 486 Park Ave SE\, Atlanta\, GA 30312\, USA
CATEGORIES:Community
END:VEVENT
BEGIN:VEVENT
DTSTART;TZID=America/New_York:20261107T110000
DTEND;TZID=America/New_York:20261107T123000
DTSTAMP:20260414T212712
CREATED:20260224T160939Z
LAST-MODIFIED:20260224T160939Z
UID:10001045-1794049200-1794054600@mosaicatlanta.org
SUMMARY:Post Gaza Pilgrimage Picnic in the Park
DESCRIPTION:www.refaatlibrary.com
URL:https://mosaicatlanta.org/event/post-gaza-pilgrimage-picnic-in-the-park-9/
LOCATION:Park Ave Baptist Church\, 486 Park Ave SE\, Atlanta\, GA 30312\, USA
CATEGORIES:Community
END:VEVENT
BEGIN:VEVENT
DTSTART;TZID=America/New_York:20261205T090000
DTEND;TZID=America/New_York:20261205T110000
DTSTAMP:20260414T212712
CREATED:20260224T160945Z
LAST-MODIFIED:20260224T160945Z
UID:10001095-1796461200-1796468400@mosaicatlanta.org
SUMMARY:Pilgrimage for Palestine
DESCRIPTION:
URL:https://mosaicatlanta.org/event/pilgrimage-for-palestine-10/
LOCATION:Park Ave Baptist Church\, 486 Park Ave SE\, Atlanta\, GA 30312\, USA
CATEGORIES:Community
END:VEVENT
BEGIN:VEVENT
DTSTART;TZID=America/New_York:20261205T110000
DTEND;TZID=America/New_York:20261205T123000
DTSTAMP:20260414T212712
CREATED:20260224T160945Z
LAST-MODIFIED:20260224T160945Z
UID:10001096-1796468400-1796473800@mosaicatlanta.org
SUMMARY:Post Gaza Pilgrimage Picnic in the Park
DESCRIPTION:www.refaatlibrary.com
URL:https://mosaicatlanta.org/event/post-gaza-pilgrimage-picnic-in-the-park-10/
LOCATION:Park Ave Baptist Church\, 486 Park Ave SE\, Atlanta\, GA 30312\, USA
CATEGORIES:Community
END:VEVENT
BEGIN:VEVENT
DTSTART;TZID=America/New_York:20270102T090000
DTEND;TZID=America/New_York:20270102T110000
DTSTAMP:20260414T212712
CREATED:20260224T160953Z
LAST-MODIFIED:20260224T160953Z
UID:10001148-1798880400-1798887600@mosaicatlanta.org
SUMMARY:Pilgrimage for Palestine
DESCRIPTION:
URL:https://mosaicatlanta.org/event/pilgrimage-for-palestine-11/
LOCATION:Park Ave Baptist Church\, 486 Park Ave SE\, Atlanta\, GA 30312\, USA
CATEGORIES:Community
END:VEVENT
BEGIN:VEVENT
DTSTART;TZID=America/New_York:20270102T110000
DTEND;TZID=America/New_York:20270102T123000
DTSTAMP:20260414T212712
CREATED:20260224T160953Z
LAST-MODIFIED:20260224T160953Z
UID:10001149-1798887600-1798893000@mosaicatlanta.org
SUMMARY:Post Gaza Pilgrimage Picnic in the Park
DESCRIPTION:www.refaatlibrary.com
URL:https://mosaicatlanta.org/event/post-gaza-pilgrimage-picnic-in-the-park-11/
LOCATION:Park Ave Baptist Church\, 486 Park Ave SE\, Atlanta\, GA 30312\, USA
CATEGORIES:Community
END:VEVENT
BEGIN:VEVENT
DTSTART;TZID=America/New_York:20270206T090000
DTEND;TZID=America/New_York:20270206T110000
DTSTAMP:20260414T212712
CREATED:20260224T161003Z
LAST-MODIFIED:20260224T161003Z
UID:10001206-1801904400-1801911600@mosaicatlanta.org
SUMMARY:Pilgrimage for Palestine
DESCRIPTION:
URL:https://mosaicatlanta.org/event/pilgrimage-for-palestine-12/
LOCATION:Park Ave Baptist Church\, 486 Park Ave SE\, Atlanta\, GA 30312\, USA
CATEGORIES:Community
END:VEVENT
BEGIN:VEVENT
DTSTART;TZID=America/New_York:20270206T110000
DTEND;TZID=America/New_York:20270206T123000
DTSTAMP:20260414T212712
CREATED:20260224T161003Z
LAST-MODIFIED:20260224T161003Z
UID:10001207-1801911600-1801917000@mosaicatlanta.org
SUMMARY:Post Gaza Pilgrimage Picnic in the Park
DESCRIPTION:www.refaatlibrary.com
URL:https://mosaicatlanta.org/event/post-gaza-pilgrimage-picnic-in-the-park-12/
LOCATION:Park Ave Baptist Church\, 486 Park Ave SE\, Atlanta\, GA 30312\, USA
CATEGORIES:Community
END:VEVENT
END:VCALENDAR