BEGIN:VCALENDAR
VERSION:2.0
PRODID:-//Mosaic Atlanta - ECPv6.15.13//NONSGML v1.0//EN
CALSCALE:GREGORIAN
METHOD:PUBLISH
X-WR-CALNAME:Mosaic Atlanta
X-ORIGINAL-URL:https://mosaicatlanta.org
X-WR-CALDESC:Events for Mosaic Atlanta
REFRESH-INTERVAL;VALUE=DURATION:PT1H
X-Robots-Tag:noindex
X-PUBLISHED-TTL:PT1H
BEGIN:VTIMEZONE
TZID:America/New_York
BEGIN:DAYLIGHT
TZOFFSETFROM:-0500
TZOFFSETTO:-0400
TZNAME:EDT
DTSTART:20250309T070000
END:DAYLIGHT
BEGIN:STANDARD
TZOFFSETFROM:-0400
TZOFFSETTO:-0500
TZNAME:EST
DTSTART:20251102T060000
END:STANDARD
BEGIN:DAYLIGHT
TZOFFSETFROM:-0500
TZOFFSETTO:-0400
TZNAME:EDT
DTSTART:20260308T070000
END:DAYLIGHT
BEGIN:STANDARD
TZOFFSETFROM:-0400
TZOFFSETTO:-0500
TZNAME:EST
DTSTART:20261101T060000
END:STANDARD
BEGIN:DAYLIGHT
TZOFFSETFROM:-0500
TZOFFSETTO:-0400
TZNAME:EDT
DTSTART:20270314T070000
END:DAYLIGHT
BEGIN:STANDARD
TZOFFSETFROM:-0400
TZOFFSETTO:-0500
TZNAME:EST
DTSTART:20271107T060000
END:STANDARD
END:VTIMEZONE
BEGIN:VEVENT
DTSTART;TZID=America/New_York:20260402T180000
DTEND;TZID=America/New_York:20260402T200000
DTSTAMP:20260419T093511
CREATED:20260325T163715Z
LAST-MODIFIED:20260325T163715Z
UID:10001738-1775152800-1775160000@mosaicatlanta.org
SUMMARY:Savannah Urbanist Society Meet and Greet and Idea Share
DESCRIPTION:https://www.instagram.com/p/DWGzUI3jlVW/?igsh=MXY5NGszeXRqbm1oMQ==
URL:https://mosaicatlanta.org/event/savannah-urbanist-society-meet-and-greet-and-idea-share/
LOCATION:Goodfortune Market\, 2413 Waters Ave\, Savannah\, GA 31404\, USA
END:VEVENT
END:VCALENDAR