BEGIN:VCALENDAR
VERSION:2.0
PRODID:-//Mosaic Atlanta - ECPv6.15.13//NONSGML v1.0//EN
CALSCALE:GREGORIAN
METHOD:PUBLISH
X-ORIGINAL-URL:https://mosaicatlanta.org
X-WR-CALDESC:Events for Mosaic Atlanta
REFRESH-INTERVAL;VALUE=DURATION:PT1H
X-Robots-Tag:noindex
X-PUBLISHED-TTL:PT1H
BEGIN:VTIMEZONE
TZID:America/New_York
BEGIN:DAYLIGHT
TZOFFSETFROM:-0500
TZOFFSETTO:-0400
TZNAME:EDT
DTSTART:20250309T070000
END:DAYLIGHT
BEGIN:STANDARD
TZOFFSETFROM:-0400
TZOFFSETTO:-0500
TZNAME:EST
DTSTART:20251102T060000
END:STANDARD
BEGIN:DAYLIGHT
TZOFFSETFROM:-0500
TZOFFSETTO:-0400
TZNAME:EDT
DTSTART:20260308T070000
END:DAYLIGHT
BEGIN:STANDARD
TZOFFSETFROM:-0400
TZOFFSETTO:-0500
TZNAME:EST
DTSTART:20261101T060000
END:STANDARD
BEGIN:DAYLIGHT
TZOFFSETFROM:-0500
TZOFFSETTO:-0400
TZNAME:EDT
DTSTART:20270314T070000
END:DAYLIGHT
BEGIN:STANDARD
TZOFFSETFROM:-0400
TZOFFSETTO:-0500
TZNAME:EST
DTSTART:20271107T060000
END:STANDARD
END:VTIMEZONE
BEGIN:VEVENT
DTSTART;TZID=America/New_York:20260322T190000
DTEND;TZID=America/New_York:20260322T200000
DTSTAMP:20260414T213536
CREATED:20260317T163719Z
LAST-MODIFIED:20260317T163719Z
UID:10001700-1774206000-1774209600@mosaicatlanta.org
SUMMARY:Yoga Against ICE
DESCRIPTION:Iceoutga.noblogs.org
URL:https://mosaicatlanta.org/event/yoga-against-ice/
LOCATION:147 Fritz Mar Ln\, Athens\, GA 30607\, États-Unis
END:VEVENT
BEGIN:VEVENT
DTSTART;TZID=America/New_York:20260321T110000
DTEND;TZID=America/New_York:20260321T120000
DTSTAMP:20260414T213536
CREATED:20260317T163718Z
LAST-MODIFIED:20260317T163718Z
UID:10001695-1774090800-1774094400@mosaicatlanta.org
SUMMARY:Art Against ICE
DESCRIPTION:Iceoutga.noblogs.org
URL:https://mosaicatlanta.org/event/art-against-ice/
LOCATION:147 Fritz Mar Ln\, Athens\, GA 30607\, États-Unis
END:VEVENT
END:VCALENDAR